BEGIN:VCALENDAR
VERSION:2.0
PRODID:-//hacksw/handcal//NONSGML v1.0//EN
BEGIN:VEVENT
DTSTAMP:20090129T190000Z
DTSTART:20090129T190000Z
DTEND:20090129T210000Z

GEO:52.5063462;13.4436582
LOCATION:12 Mühlenstraße  Berlin Berlin 10243
SUMMARY:ABBA THE SHOW
DESCRIPTION:ABBA – dieser Name steht für die erfolgreichste Popgruppe aller Zeiten. Angefangen hat alles 1974, als die Schweden mit „Waterloo" den Eurovision Song Contest gewonnen haben. Danach verkauften sie rund 400 Millionen Tonträger. Der Erfolg von Agnetha, Anni-Fried, Benny und Björn ist bis heute ungebrochen. Ein Comeback des Quartetts ist allerdings absolut ausgeschlossen. Aber die Fans müssen dank ABBA – The Show auf nichts verzichten. Ulf Andersson, der ABBA als Saxophonist auf Tourneen begleitet hat, sagt über dieses Event: „Wenn man die Augen schließt denkt man, dass die Original-Besetzung auf der Bühne steht. So sehr treffen die Frontfrauen Katja Nord und Camilla Hedrén den unverwechselbaren Sound der Schweden." Sie können sich am 29. Januar in der O2 World selbst davon überzeugen, wie nah die Darsteller von Abba – The Show am Original dran sind. Sie erwartet ein musikalisches Erlebnis der Extraklasse. Wenn Sie ABBA-Fan sind, dürfen Sie sich ABBA-The Show auf keinen Fall entgehen lassen.
END:VEVENT
END:VCALENDAR